BEGIN:VCALENDAR
VERSION:2.0
PRODID:-//https://www.kirchen-zell-leinach.de///NONSGML kigkonsult.se iCalcreator 2.10.15//
METHOD:PUBLISH
BEGIN:VEVENT
UID:20260425T170759CEST-11901MG1sl@https://www.kirchen-zell-leinach.de/
DTSTAMP:20260425T150759Z
DESCRIPTION: https://www.kirchen-zell-leinach.de/aktuelles/veranstaltungen/
 event/593-kirchenjubilaeum-communio-sanctorum
DTSTART:20260524T080000Z
DTEND:20260524T120000Z
LOCATION:Pfarrkirche Communio Sanctorum (Burkardusstraße 4\, 97274\, Leinac
 h\, Bayern)
SUMMARY:Kirchenjubiläum Communio Sanctorum
URL:https://www.kirchen-zell-leinach.de/aktuelles/veranstaltungen/event/593
 -kirchenjubilaeum-communio-sanctorum
END:VEVENT
END:VCALENDAR
