BEGIN:VCALENDAR
VERSION:2.0
PRODID:-//https://www.kirchen-zell-leinach.de///NONSGML kigkonsult.se iCalcreator 2.10.15//
METHOD:PUBLISH
BEGIN:VEVENT
UID:20260422T105422CEST-5752bNZ8jR@https://www.kirchen-zell-leinach.de/
DTSTAMP:20260422T085422Z
DESCRIPTION:\nÖkumenischer Kreuzweg für alle Generationen. Wir starten um 1
 6:00 Uhr von der Kurtiekirche 'Heiligste Dreifaltigkeit'&nbsp\; (Sudetenst
 r. 1a) in Veitshöchheim in der Gartensiedlung. Dann geht es durch Feld und
  Wald über den Mittelpunkt der EU nach Gadheim zur Markuskapelle.\n\n\nUnt
 erwegs gehen wir in 5 Stationen den Leidensweg Jesu mit. Wir singen Lieder
 \, beten gemeinsam und machen verschiedene Aktionen. In Gadheim machen wir
  ein kleines Lagerfeuer und wer möchte kann sich Stockbrot über dem Feuer 
 machen.&nbsp\;Begleitet wird der Kreuzweg durch Pastoralreferentin Lisa Fi
 scher (Kath. Gemeinde\, Veitshöchheim)\, Gemeindereferent Johannes Bindner
  (ev. Gemeinde\, Veitshöchheim) und Gemeindereferent Ulrich Nottka (Kath. 
 Gemeinden Thüngersheim-Güntersleben).\nHerzliche Einladung an Familien\, K
 ommunionkinder\, Schulkinder\, Jugendliche\, Junge und junggebliebene Erwa
 chsene und Seniorinnen und Senioren. Eingeladen sind alle aus dem katholis
 chen Pastoralen Raum Würzburg Nord-West und den evangelischen Gemeinden Ve
 itshöchheim\, Thüngersheim Güntersleben und darüber hinaus alle\, die einf
 ach Lust haben mit uns den Kreuzweg zu beten\n https://www.kirchen-zell-le
 inach.de/aktuelles/veranstaltungen/event/579-oekumenischer-kreuzweg-fuer-a
 lle-von-veitshoechheim-nach-gadheim
DTSTART:20260308T150000Z
DTEND:20260308T163000Z
LOCATION:Veitshöchheim\, 'Hl. Dreifaltigkeit' (Sudetenstr. 1a)
SUMMARY:Ökumenischer Kreuzweg für alle - von Veitshöchheim nach Gadheim
URL:https://www.kirchen-zell-leinach.de/aktuelles/veranstaltungen/event/579
 -oekumenischer-kreuzweg-fuer-alle-von-veitshoechheim-nach-gadheim
END:VEVENT
END:VCALENDAR
