BEGIN:VCALENDAR
VERSION:2.0
PRODID:-//https://www.kirchen-zell-leinach.de///NONSGML kigkonsult.se iCalcreator 2.10.15//
METHOD:PUBLISH
BEGIN:VEVENT
UID:20260423T121930CEST-5366phGKI9@https://www.kirchen-zell-leinach.de/
DTSTAMP:20260423T101930Z
DESCRIPTION:Gestaltet deine eigene Osterkerze am Karsamstag\, 4. April 2026
  10:00 Uhr im kath. Pfarrheim Zell a.M.&nbsp\;\nAnmeldung per Mail bis 29.
 03. an pfarrei@klafke-zell.de\,&nbsp\;Teilnehmerbeitrag: 3\,00 € https://w
 ww.kirchen-zell-leinach.de/aktuelles/veranstaltungen/event/577-osterkerzen
 gestaltung
DTSTART:20260404T080000Z
DTEND:20260404T090000Z
LOCATION:Pfarrheim Zell (Rathausplatz 1\, 97299\, Zell am Main\, Bayern)
SUMMARY:Osterkerzengestaltung
URL:https://www.kirchen-zell-leinach.de/aktuelles/veranstaltungen/event/577
 -osterkerzengestaltung
END:VEVENT
END:VCALENDAR
