BEGIN:VCALENDAR
VERSION:2.0
PRODID:-//https://www.kirchen-zell-leinach.de///NONSGML kigkonsult.se iCalcreator 2.10.15//
METHOD:PUBLISH
BEGIN:VEVENT
UID:20260421T152702CEST-7514eNJBzI@https://www.kirchen-zell-leinach.de/
DTSTAMP:20260421T132702Z
DESCRIPTION: https://www.kirchen-zell-leinach.de/aktuelles/veranstaltungen/
 event/536-kirche-fuer-alle-gottesdienst-zum-hoeren-sehen-und-mitmachen
DTSTART:20260329T083000Z
DTEND:20260329T093000Z
LOCATION:Pfarrkirche Margetshöchheim (Mainstraße 19\, 97276\, Margetshöchhe
 im\, Bayern)
SUMMARY:Kirche für alle - Gottesdienst zum Hören\, Sehen und Mitmachen
URL:https://www.kirchen-zell-leinach.de/aktuelles/veranstaltungen/event/536
 -kirche-fuer-alle-gottesdienst-zum-hoeren-sehen-und-mitmachen
END:VEVENT
END:VCALENDAR
