BEGIN:VCALENDAR
VERSION:2.0
PRODID:-//https://www.kirchen-zell-leinach.de///NONSGML kigkonsult.se iCalcreator 2.10.15//
METHOD:PUBLISH
BEGIN:VEVENT
UID:20260422T121557CEST-3349ZZuej6@https://www.kirchen-zell-leinach.de/
DTSTAMP:20260422T101557Z
DESCRIPTION: https://www.kirchen-zell-leinach.de/aktuelles/veranstaltungen/
 event/532-offener-frauentreff-fuer-frauen-jeden-alters
DTSTART:20260326T173000Z
DTEND:20260326T200000Z
LOCATION:Pfarrheim Zell (Rathausplatz 1\, 97299\, Zell am Main\, Bayern)
SUMMARY:Offener Frauentreff für Frauen jeden Alters
URL:https://www.kirchen-zell-leinach.de/aktuelles/veranstaltungen/event/532
 -offener-frauentreff-fuer-frauen-jeden-alters
END:VEVENT
END:VCALENDAR
