BEGIN:VCALENDAR
VERSION:2.0
PRODID:-//https://www.kirchen-zell-leinach.de///NONSGML kigkonsult.se iCalcreator 2.10.15//
METHOD:PUBLISH
BEGIN:VEVENT
UID:20260422T120648CEST-5817hUAS4v@https://www.kirchen-zell-leinach.de/
DTSTAMP:20260422T100648Z
DESCRIPTION: https://www.kirchen-zell-leinach.de/aktuelles/veranstaltungen/
 event/493-zeit-mit-gott-eucharistische-anbetung
DTSTART:20261218T160000Z
DTEND:20261218T170000Z
LOCATION:Pfarrkirche Margetshöchheim (Mainstraße 19\, 97276\, Margetshöchhe
 im\, Bayern)
SUMMARY:'Zeit mit Gott' - Eucharistische Anbetung
URL:https://www.kirchen-zell-leinach.de/aktuelles/veranstaltungen/event/493
 -zeit-mit-gott-eucharistische-anbetung
END:VEVENT
END:VCALENDAR
