BEGIN:VCALENDAR
VERSION:2.0
PRODID:-//https://www.kirchen-zell-leinach.de///NONSGML kigkonsult.se iCalcreator 2.10.15//
METHOD:PUBLISH
BEGIN:VEVENT
UID:20260421T102959CEST-9306dotgNN@https://www.kirchen-zell-leinach.de/
DTSTAMP:20260421T082959Z
DESCRIPTION: https://www.kirchen-zell-leinach.de/aktuelles/veranstaltungen/
 event/466-zeit-mit-gott-eucharistische-anbetung
DTSTART:20260612T150000Z
DTEND:20260612T160000Z
LOCATION:Pfarrkirche Margetshöchheim (Mainstraße 19\, 97276\, Margetshöchhe
 im\, Bayern)
SUMMARY:'Zeit mit Gott' - Eucharistische Anbetung
URL:https://www.kirchen-zell-leinach.de/aktuelles/veranstaltungen/event/466
 -zeit-mit-gott-eucharistische-anbetung
END:VEVENT
END:VCALENDAR
