BEGIN:VCALENDAR
VERSION:2.0
PRODID:-//https://www.kirchen-zell-leinach.de///NONSGML kigkonsult.se iCalcreator 2.10.15//
METHOD:PUBLISH
BEGIN:VEVENT
UID:20260422T120654CEST-5204ta7VgO@https://www.kirchen-zell-leinach.de/
DTSTAMP:20260422T100654Z
DESCRIPTION: https://www.kirchen-zell-leinach.de/aktuelles/veranstaltungen/
 event/456-zeit-mit-gott-eucharistische-anbetung
DTSTART:20260403T150000Z
DTEND:20260403T160000Z
LOCATION:Pfarrkirche Margetshöchheim (Mainstraße 19\, 97276\, Margetshöchhe
 im\, Bayern)
SUMMARY:'Zeit mit Gott' - Eucharistische Anbetung
URL:https://www.kirchen-zell-leinach.de/aktuelles/veranstaltungen/event/456
 -zeit-mit-gott-eucharistische-anbetung
END:VEVENT
END:VCALENDAR
