BEGIN:VCALENDAR
VERSION:2.0
PRODID:-//https://www.kirchen-zell-leinach.de///NONSGML kigkonsult.se iCalcreator 2.10.15//
METHOD:PUBLISH
BEGIN:VEVENT
UID:20260422T121142CEST-1649GHRaZR@https://www.kirchen-zell-leinach.de/
DTSTAMP:20260422T101142Z
DESCRIPTION: https://www.kirchen-zell-leinach.de/aktuelles/veranstaltungen/
 event/452-zeit-mit-gott-eucharistische-anbetung-entfaellt
DTSTART:20260306T160000Z
DTEND:20260306T170000Z
LOCATION:Pfarrkirche Margetshöchheim (Mainstraße 19\, 97276\, Margetshöchhe
 im\, Bayern)
SUMMARY:'Zeit mit Gott' - Eucharistische Anbetung - entfällt
URL:https://www.kirchen-zell-leinach.de/aktuelles/veranstaltungen/event/452
 -zeit-mit-gott-eucharistische-anbetung-entfaellt
END:VEVENT
END:VCALENDAR
