BEGIN:VCALENDAR
VERSION:2.0
PRODID:-//https://www.kirchen-zell-leinach.de///NONSGML kigkonsult.se iCalcreator 2.10.15//
METHOD:PUBLISH
BEGIN:VEVENT
UID:20260422T104501CEST-3366m6317W@https://www.kirchen-zell-leinach.de/
DTSTAMP:20260422T084501Z
DESCRIPTION: https://www.kirchen-zell-leinach.de/aktuelles/veranstaltungen/
 event/380-atem-holen-im-advent
DTSTART:20241205T180000Z
DTEND:20241205T183000Z
LOCATION:Bürgerhof Erlabrunn ()
SUMMARY:Atem holen im Advent
URL:https://www.kirchen-zell-leinach.de/aktuelles/veranstaltungen/event/380
 -atem-holen-im-advent
END:VEVENT
END:VCALENDAR
