BEGIN:VCALENDAR
VERSION:2.0
PRODID:-//https://www.kirchen-zell-leinach.de///NONSGML kigkonsult.se iCalcreator 2.10.15//
METHOD:PUBLISH
BEGIN:VEVENT
UID:20260425T145211CEST-7375gOijn7@https://www.kirchen-zell-leinach.de/
DTSTAMP:20260425T125211Z
DESCRIPTION: https://www.kirchen-zell-leinach.de/aktuelles/veranstaltungen/
 event/378-krippenfeier-fuer-gross-und-klein
DTSTART:20241224T150000Z
DTEND:20241224T160000Z
LOCATION:Pfarrkirche Margetshöchheim (Mainstraße 19\, 97276\, Margetshöchhe
 im\, Bayern)
SUMMARY:Krippenfeier für Groß und Klein
URL:https://www.kirchen-zell-leinach.de/aktuelles/veranstaltungen/event/378
 -krippenfeier-fuer-gross-und-klein
END:VEVENT
END:VCALENDAR
