BEGIN:VCALENDAR
VERSION:2.0
PRODID:-//https://www.kirchen-zell-leinach.de///NONSGML kigkonsult.se iCalcreator 2.10.15//
METHOD:PUBLISH
BEGIN:VEVENT
UID:20260423T105201CEST-5962LbgOpt@https://www.kirchen-zell-leinach.de/
DTSTAMP:20260423T085201Z
DESCRIPTION: https://www.kirchen-zell-leinach.de/aktuelles/veranstaltungen/
 event/293-taufsonntag
DTSTART;VALUE=DATE:20241006
LOCATION:Pfarrkirche Erlabrunn (Obere Kirchgasse 6\, 97250\, Erlabrunn\, Ba
 yern)
SUMMARY:Taufsonntag
URL:https://www.kirchen-zell-leinach.de/aktuelles/veranstaltungen/event/293
 -taufsonntag
END:VEVENT
END:VCALENDAR
