BEGIN:VCALENDAR
VERSION:2.0
PRODID:-//https://www.kirchen-zell-leinach.de///NONSGML kigkonsult.se iCalcreator 2.10.15//
METHOD:PUBLISH
BEGIN:VEVENT
UID:20260423T161113CEST-8830euaTsl@https://www.kirchen-zell-leinach.de/
DTSTAMP:20260423T141113Z
DESCRIPTION: https://www.kirchen-zell-leinach.de/aktuelles/veranstaltungen/
 event/223-informationselternabend-zur-erstkommunion-2025
DTSTART:20240923T173000Z
DTEND:20240923T193000Z
LOCATION:Foyer der Kirche Communio Sanctorum\, Leinach ()
SUMMARY:Informationselternabend zur Erstkommunion 2025
URL:https://www.kirchen-zell-leinach.de/aktuelles/veranstaltungen/event/223
 -informationselternabend-zur-erstkommunion-2025
END:VEVENT
END:VCALENDAR
