BEGIN:VCALENDAR
VERSION:2.0
PRODID:-//https://www.kirchen-zell-leinach.de///NONSGML kigkonsult.se iCalcreator 2.10.15//
METHOD:PUBLISH
BEGIN:VEVENT
UID:20260422T120516CEST-5671H2fznn@https://www.kirchen-zell-leinach.de/
DTSTAMP:20260422T100516Z
DESCRIPTION: https://www.kirchen-zell-leinach.de/aktuelles/veranstaltungen/
 event/192-taufsonntag
DTSTART;VALUE=DATE:20230806
LOCATION:Pfarrkirche Erlabrunn (Obere Kirchgasse 6\, 97250\, Erlabrunn\, Ba
 yern)
SUMMARY:Taufsonntag
URL:https://www.kirchen-zell-leinach.de/aktuelles/veranstaltungen/event/192
 -taufsonntag
END:VEVENT
END:VCALENDAR
