BEGIN:VCALENDAR
VERSION:2.0
PRODID:-//https://www.kirchen-zell-leinach.de///NONSGML kigkonsult.se iCalcreator 2.10.15//
METHOD:PUBLISH
BEGIN:VEVENT
UID:20260423T120626CEST-2279H3hNdl@https://www.kirchen-zell-leinach.de/
DTSTAMP:20260423T100626Z
DESCRIPTION: https://www.kirchen-zell-leinach.de/aktuelles/event/570-taufso
 nntag
DTSTART;VALUE=DATE:20260607
LOCATION:Pfarrkirche Erlabrunn (Obere Kirchgasse 6\, 97250\, Erlabrunn\, Ba
 yern)
SUMMARY:Taufsonntag
URL:https://www.kirchen-zell-leinach.de/aktuelles/event/570-taufsonntag
END:VEVENT
END:VCALENDAR
