BEGIN:VCALENDAR
VERSION:2.0
PRODID:-//https://www.kirchen-zell-leinach.de///NONSGML kigkonsult.se iCalcreator 2.10.15//
METHOD:PUBLISH
BEGIN:VEVENT
UID:20260423T120152CEST-4843f9iHHV@https://www.kirchen-zell-leinach.de/
DTSTAMP:20260423T100152Z
DESCRIPTION: https://www.kirchen-zell-leinach.de/aktuelles/event/565-taufso
 nntag
DTSTART;VALUE=DATE:20261025
LOCATION:Pfarrkirchen in Leinach ()
SUMMARY:Taufsonntag
URL:https://www.kirchen-zell-leinach.de/aktuelles/event/565-taufsonntag
END:VEVENT
END:VCALENDAR
