BEGIN:VCALENDAR
VERSION:2.0
PRODID:-//https://www.kirchen-zell-leinach.de///NONSGML kigkonsult.se iCalcreator 2.10.15//
METHOD:PUBLISH
BEGIN:VEVENT
UID:20260423T120152CEST-4772vEPEZh@https://www.kirchen-zell-leinach.de/
DTSTAMP:20260423T100152Z
DESCRIPTION: https://www.kirchen-zell-leinach.de/aktuelles/event/560-taufso
 nntag
DTSTART;VALUE=DATE:20260524
LOCATION:Pfarrkirchen in Leinach ()
SUMMARY:Taufsonntag
URL:https://www.kirchen-zell-leinach.de/aktuelles/event/560-taufsonntag
END:VEVENT
END:VCALENDAR
