BEGIN:VCALENDAR
VERSION:2.0
PRODID:-//https://www.kirchen-zell-leinach.de///NONSGML kigkonsult.se iCalcreator 2.10.15//
METHOD:PUBLISH
BEGIN:VEVENT
UID:20260422T131138CEST-1393kaVrXu@https://www.kirchen-zell-leinach.de/
DTSTAMP:20260422T111138Z
DESCRIPTION: https://www.kirchen-zell-leinach.de/aktuelles/event/548-taufso
 nntag
DTSTART;VALUE=DATE:20261115
LOCATION:Kloster Oberzell ()
SUMMARY:Taufsonntag
URL:https://www.kirchen-zell-leinach.de/aktuelles/event/548-taufsonntag
END:VEVENT
END:VCALENDAR
