BEGIN:VCALENDAR
VERSION:2.0
PRODID:-//https://www.kirchen-zell-leinach.de///NONSGML kigkonsult.se iCalcreator 2.10.15//
METHOD:PUBLISH
BEGIN:VEVENT
UID:20260422T131150CEST-8989ugv5GB@https://www.kirchen-zell-leinach.de/
DTSTAMP:20260422T111150Z
DESCRIPTION: https://www.kirchen-zell-leinach.de/aktuelles/event/547-taufso
 nntag
DTSTART;VALUE=DATE:20261018
LOCATION:Kloster Oberzell ()
SUMMARY:Taufsonntag
URL:https://www.kirchen-zell-leinach.de/aktuelles/event/547-taufsonntag
END:VEVENT
END:VCALENDAR
