BEGIN:VCALENDAR
VERSION:2.0
PRODID:-//https://www.kirchen-zell-leinach.de///NONSGML kigkonsult.se iCalcreator 2.10.15//
METHOD:PUBLISH
BEGIN:VEVENT
UID:20260422T131145CEST-6172vVzdoT@https://www.kirchen-zell-leinach.de/
DTSTAMP:20260422T111145Z
DESCRIPTION: https://www.kirchen-zell-leinach.de/aktuelles/event/546-taufso
 nntag
DTSTART;VALUE=DATE:20260920
LOCATION:Kloster Oberzell ()
SUMMARY:Taufsonntag
URL:https://www.kirchen-zell-leinach.de/aktuelles/event/546-taufsonntag
END:VEVENT
END:VCALENDAR
