BEGIN:VCALENDAR
VERSION:2.0
PRODID:-//https://www.kirchen-zell-leinach.de///NONSGML kigkonsult.se iCalcreator 2.10.15//
METHOD:PUBLISH
BEGIN:VEVENT
UID:20260422T143257CEST-8358T3hu4t@https://www.kirchen-zell-leinach.de/
DTSTAMP:20260422T123257Z
DESCRIPTION: https://www.kirchen-zell-leinach.de/aktuelles/event/543-taufso
 nntag
DTSTART;VALUE=DATE:20260621
LOCATION:Kloster Oberzell ()
SUMMARY:Taufsonntag
URL:https://www.kirchen-zell-leinach.de/aktuelles/event/543-taufsonntag
END:VEVENT
END:VCALENDAR
