BEGIN:VCALENDAR
VERSION:2.0
PRODID:-//https://www.kirchen-zell-leinach.de///NONSGML kigkonsult.se iCalcreator 2.10.15//
METHOD:PUBLISH
BEGIN:VEVENT
UID:20260422T143308CEST-5341FrmRWO@https://www.kirchen-zell-leinach.de/
DTSTAMP:20260422T123308Z
DESCRIPTION: https://www.kirchen-zell-leinach.de/aktuelles/event/542-taufso
 nntag
DTSTART;VALUE=DATE:20260517
LOCATION:Kloster Oberzell ()
SUMMARY:Taufsonntag
URL:https://www.kirchen-zell-leinach.de/aktuelles/event/542-taufsonntag
END:VEVENT
END:VCALENDAR
