BEGIN:VCALENDAR
VERSION:2.0
PRODID:-//https://www.kirchen-zell-leinach.de///NONSGML kigkonsult.se iCalcreator 2.10.15//
METHOD:PUBLISH
BEGIN:VEVENT
UID:20260423T121131CEST-3890f5Zr4x@https://www.kirchen-zell-leinach.de/
DTSTAMP:20260423T101131Z
DESCRIPTION: https://www.kirchen-zell-leinach.de/aktuelles/event/516-taufso
 nntag
DTSTART;VALUE=DATE:20260125
LOCATION:Pfarrkirchen in Leinach ()
SUMMARY:Taufsonntag
URL:https://www.kirchen-zell-leinach.de/aktuelles/event/516-taufsonntag
END:VEVENT
END:VCALENDAR
