BEGIN:VCALENDAR
VERSION:2.0
PRODID:-//https://www.kirchen-zell-leinach.de///NONSGML kigkonsult.se iCalcreator 2.10.15//
METHOD:PUBLISH
BEGIN:VEVENT
UID:20260423T120417CEST-5854aVe6wb@https://www.kirchen-zell-leinach.de/
DTSTAMP:20260423T100417Z
DESCRIPTION: https://www.kirchen-zell-leinach.de/aktuelles/event/515-taufso
 nntag
DTSTART;VALUE=DATE:20251228
LOCATION:Pfarrkirchen in Leinach ()
SUMMARY:Taufsonntag
URL:https://www.kirchen-zell-leinach.de/aktuelles/event/515-taufsonntag
END:VEVENT
END:VCALENDAR
