BEGIN:VCALENDAR
VERSION:2.0
PRODID:-//https://www.kirchen-zell-leinach.de///NONSGML kigkonsult.se iCalcreator 2.10.15//
METHOD:PUBLISH
BEGIN:VEVENT
UID:20260423T121134CEST-0041We4z6L@https://www.kirchen-zell-leinach.de/
DTSTAMP:20260423T101134Z
DESCRIPTION: https://www.kirchen-zell-leinach.de/aktuelles/event/513-taufso
 nntag
DTSTART;VALUE=DATE:20251026
LOCATION:Pfarrkirchen in Leinach ()
SUMMARY:Taufsonntag
URL:https://www.kirchen-zell-leinach.de/aktuelles/event/513-taufsonntag
END:VEVENT
END:VCALENDAR
