BEGIN:VCALENDAR
VERSION:2.0
PRODID:-//https://www.kirchen-zell-leinach.de///NONSGML kigkonsult.se iCalcreator 2.10.15//
METHOD:PUBLISH
BEGIN:VEVENT
UID:20260422T143328CEST-4315VtwDM1@https://www.kirchen-zell-leinach.de/
DTSTAMP:20260422T123328Z
DESCRIPTION: https://www.kirchen-zell-leinach.de/aktuelles/event/511-taufso
 nntag
DTSTART;VALUE=DATE:20260215
LOCATION:Kloster Oberzell ()
SUMMARY:Taufsonntag
URL:https://www.kirchen-zell-leinach.de/aktuelles/event/511-taufsonntag
END:VEVENT
END:VCALENDAR
