BEGIN:VCALENDAR
VERSION:2.0
PRODID:-//https://www.kirchen-zell-leinach.de///NONSGML kigkonsult.se iCalcreator 2.10.15//
METHOD:PUBLISH
BEGIN:VEVENT
UID:20260422T104315CEST-72464lFCPu@https://www.kirchen-zell-leinach.de/
DTSTAMP:20260422T084315Z
DESCRIPTION: https://www.kirchen-zell-leinach.de/aktuelles/event/412-kinder
 kirche-zu-christi-himmelfahrt
DTSTART:20250601T083000Z
DTEND:20250601T093000Z
LOCATION:Pfarrkirche Erlabrunn (Obere Kirchgasse 6\, 97250\, Erlabrunn\, Ba
 yern)
SUMMARY:Kinderkirche zu 'Christi Himmelfahrt'
URL:https://www.kirchen-zell-leinach.de/aktuelles/event/412-kinderkirche-zu
 -christi-himmelfahrt
END:VEVENT
END:VCALENDAR
