BEGIN:VCALENDAR
VERSION:2.0
PRODID:-//https://www.kirchen-zell-leinach.de///NONSGML kigkonsult.se iCalcreator 2.10.15//
METHOD:PUBLISH
BEGIN:VEVENT
UID:20260419T201736CEST-8496vhfG2P@https://www.kirchen-zell-leinach.de/
DTSTAMP:20260419T181736Z
DESCRIPTION: https://www.kirchen-zell-leinach.de/aktuelles/event/381-atem-h
 olen-im-advent
DTSTART:20241209T180000Z
DTEND:20241209T183000Z
LOCATION:Bürgerhof Erlabrunn ()
SUMMARY:Atem holen im Advent
URL:https://www.kirchen-zell-leinach.de/aktuelles/event/381-atem-holen-im-a
 dvent
END:VEVENT
END:VCALENDAR
