BEGIN:VCALENDAR
VERSION:2.0
PRODID:-//https://www.kirchen-zell-leinach.de///NONSGML kigkonsult.se iCalcreator 2.10.15//
METHOD:PUBLISH
BEGIN:VEVENT
UID:20260423T121134CEST-0180keAGRT@https://www.kirchen-zell-leinach.de/
DTSTAMP:20260423T101134Z
DESCRIPTION: https://www.kirchen-zell-leinach.de/aktuelles/event/368-taufso
 nntag
DTSTART;VALUE=DATE:20250525
LOCATION:Pfarrkirchen in Leinach ()
SUMMARY:Taufsonntag
URL:https://www.kirchen-zell-leinach.de/aktuelles/event/368-taufsonntag
END:VEVENT
END:VCALENDAR
