BEGIN:VCALENDAR
VERSION:2.0
PRODID:-//https://www.kirchen-zell-leinach.de///NONSGML kigkonsult.se iCalcreator 2.10.15//
METHOD:PUBLISH
BEGIN:VEVENT
UID:20260423T120620CEST-7432ubwPPU@https://www.kirchen-zell-leinach.de/
DTSTAMP:20260423T100620Z
DESCRIPTION: https://www.kirchen-zell-leinach.de/aktuelles/event/365-taufso
 nntag
DTSTART;VALUE=DATE:20250223
LOCATION:Pfarrkirchen in Leinach ()
SUMMARY:Taufsonntag
URL:https://www.kirchen-zell-leinach.de/aktuelles/event/365-taufsonntag
END:VEVENT
END:VCALENDAR
