BEGIN:VCALENDAR
VERSION:2.0
PRODID:-//https://www.kirchen-zell-leinach.de///NONSGML kigkonsult.se iCalcreator 2.10.15//
METHOD:PUBLISH
BEGIN:VEVENT
UID:20260423T115650CEST-9955gv5FeA@https://www.kirchen-zell-leinach.de/
DTSTAMP:20260423T095650Z
DESCRIPTION: https://www.kirchen-zell-leinach.de/aktuelles/event/363-taufso
 nntag
DTSTART;VALUE=DATE:20241222
LOCATION:Pfarrkirchen in Leinach ()
SUMMARY:Taufsonntag
URL:https://www.kirchen-zell-leinach.de/aktuelles/event/363-taufsonntag
END:VEVENT
END:VCALENDAR
