BEGIN:VCALENDAR
VERSION:2.0
PRODID:-//https://www.kirchen-zell-leinach.de///NONSGML kigkonsult.se iCalcreator 2.10.15//
METHOD:PUBLISH
BEGIN:VEVENT
UID:20260423T121241CEST-2866WVipRS@https://www.kirchen-zell-leinach.de/
DTSTAMP:20260423T101241Z
DESCRIPTION: https://www.kirchen-zell-leinach.de/aktuelles/event/356-taufso
 nntag
DTSTART;VALUE=DATE:20250202
LOCATION:Pfarrkirche Erlabrunn (Obere Kirchgasse 6\, 97250\, Erlabrunn\, Ba
 yern)
SUMMARY:Taufsonntag
URL:https://www.kirchen-zell-leinach.de/aktuelles/event/356-taufsonntag
END:VEVENT
END:VCALENDAR
