BEGIN:VCALENDAR
VERSION:2.0
PRODID:-//https://www.kirchen-zell-leinach.de///NONSGML kigkonsult.se iCalcreator 2.10.15//
METHOD:PUBLISH
BEGIN:VEVENT
UID:20260421T100430CEST-18930TjKX5@https://www.kirchen-zell-leinach.de/
DTSTAMP:20260421T080430Z
DESCRIPTION: https://www.kirchen-zell-leinach.de/aktuelles/event/353-taufso
 nntag
DTSTART;VALUE=DATE:20250720
LOCATION:Kloster Oberzell ()
SUMMARY:Taufsonntag
URL:https://www.kirchen-zell-leinach.de/aktuelles/event/353-taufsonntag
END:VEVENT
END:VCALENDAR
