BEGIN:VCALENDAR
VERSION:2.0
PRODID:-//https://www.kirchen-zell-leinach.de///NONSGML kigkonsult.se iCalcreator 2.10.15//
METHOD:PUBLISH
BEGIN:VEVENT
UID:20260422T143502CEST-2105Tuppk7@https://www.kirchen-zell-leinach.de/
DTSTAMP:20260422T123502Z
DESCRIPTION: https://www.kirchen-zell-leinach.de/aktuelles/event/346-taufso
 nntag
DTSTART;VALUE=DATE:20241215
LOCATION:Kloster Oberzell ()
SUMMARY:Taufsonntag
URL:https://www.kirchen-zell-leinach.de/aktuelles/event/346-taufsonntag
END:VEVENT
END:VCALENDAR
