BEGIN:VCALENDAR
VERSION:2.0
PRODID:-//https://www.kirchen-zell-leinach.de///NONSGML kigkonsult.se iCalcreator 2.10.15//
METHOD:PUBLISH
BEGIN:VEVENT
UID:20260422T121012CEST-0769vBuczF@https://www.kirchen-zell-leinach.de/
DTSTAMP:20260422T101012Z
DESCRIPTION: https://www.kirchen-zell-leinach.de/aktuelles/event/313-kreuzw
 eg-fuer-familien
DTSTART:20240329T090000Z
DTEND:20240329T100000Z
LOCATION:Pfarrkirche St. Laurentius\, Leinach ()
SUMMARY:Kreuzweg für Familien
URL:https://www.kirchen-zell-leinach.de/aktuelles/event/313-kreuzweg-fuer-f
 amilien
END:VEVENT
END:VCALENDAR
