BEGIN:VCALENDAR
VERSION:2.0
PRODID:-//https://www.kirchen-zell-leinach.de///NONSGML kigkonsult.se iCalcreator 2.10.15//
METHOD:PUBLISH
BEGIN:VEVENT
UID:20260422T104148CEST-7819vrdo1B@https://www.kirchen-zell-leinach.de/
DTSTAMP:20260422T084148Z
DESCRIPTION: https://www.kirchen-zell-leinach.de/aktuelles/event/300-taufso
 nntag
DTSTART;VALUE=DATE:20241020
LOCATION:Kloster Oberzell ()
SUMMARY:Taufsonntag
URL:https://www.kirchen-zell-leinach.de/aktuelles/event/300-taufsonntag
END:VEVENT
END:VCALENDAR
