BEGIN:VCALENDAR
VERSION:2.0
PRODID:-//https://www.kirchen-zell-leinach.de///NONSGML kigkonsult.se iCalcreator 2.10.15//
METHOD:PUBLISH
BEGIN:VEVENT
UID:20260422T143538CEST-2444i9dV4o@https://www.kirchen-zell-leinach.de/
DTSTAMP:20260422T123538Z
DESCRIPTION: https://www.kirchen-zell-leinach.de/aktuelles/event/298-taufso
 nntag
DTSTART;VALUE=DATE:20240818
LOCATION:Kloster Oberzell ()
SUMMARY:Taufsonntag
URL:https://www.kirchen-zell-leinach.de/aktuelles/event/298-taufsonntag
END:VEVENT
END:VCALENDAR
