BEGIN:VCALENDAR
VERSION:2.0
PRODID:-//https://www.kirchen-zell-leinach.de///NONSGML kigkonsult.se iCalcreator 2.10.15//
METHOD:PUBLISH
BEGIN:VEVENT
UID:20260423T120504CEST-12393085sW@https://www.kirchen-zell-leinach.de/
DTSTAMP:20260423T100504Z
DESCRIPTION: https://www.kirchen-zell-leinach.de/aktuelles/event/286-taufso
 nntag
DTSTART;VALUE=DATE:20241027
LOCATION:Pfarrkirchen in Leinach ()
SUMMARY:Taufsonntag
URL:https://www.kirchen-zell-leinach.de/aktuelles/event/286-taufsonntag
END:VEVENT
END:VCALENDAR
