BEGIN:VCALENDAR
VERSION:2.0
PRODID:-//https://www.kirchen-zell-leinach.de///NONSGML kigkonsult.se iCalcreator 2.10.15//
METHOD:PUBLISH
BEGIN:VEVENT
UID:20260423T120350CEST-2828koUWOU@https://www.kirchen-zell-leinach.de/
DTSTAMP:20260423T100350Z
DESCRIPTION: https://www.kirchen-zell-leinach.de/aktuelles/event/285-taufso
 nntag
DTSTART;VALUE=DATE:20240922
LOCATION:Pfarrkirchen in Leinach ()
SUMMARY:Taufsonntag
URL:https://www.kirchen-zell-leinach.de/aktuelles/event/285-taufsonntag
END:VEVENT
END:VCALENDAR
