BEGIN:VCALENDAR
VERSION:2.0
PRODID:-//https://www.kirchen-zell-leinach.de///NONSGML kigkonsult.se iCalcreator 2.10.15//
METHOD:PUBLISH
BEGIN:VEVENT
UID:20260423T121404CEST-7574Sa3O6H@https://www.kirchen-zell-leinach.de/
DTSTAMP:20260423T101404Z
DESCRIPTION: https://www.kirchen-zell-leinach.de/aktuelles/event/284-taufso
 nntag
DTSTART;VALUE=DATE:20240825
LOCATION:Pfarrkirchen in Leinach ()
SUMMARY:Taufsonntag
URL:https://www.kirchen-zell-leinach.de/aktuelles/event/284-taufsonntag
END:VEVENT
END:VCALENDAR
