BEGIN:VCALENDAR
VERSION:2.0
PRODID:-//https://www.kirchen-zell-leinach.de///NONSGML kigkonsult.se iCalcreator 2.10.15//
METHOD:PUBLISH
BEGIN:VEVENT
UID:20260423T120447CEST-708016L8G5@https://www.kirchen-zell-leinach.de/
DTSTAMP:20260423T100447Z
DESCRIPTION: https://www.kirchen-zell-leinach.de/aktuelles/event/283-taufso
 nntag
DTSTART;VALUE=DATE:20240728
LOCATION:Pfarrkirchen in Leinach ()
SUMMARY:Taufsonntag
URL:https://www.kirchen-zell-leinach.de/aktuelles/event/283-taufsonntag
END:VEVENT
END:VCALENDAR
