BEGIN:VCALENDAR
VERSION:2.0
PRODID:-//https://www.kirchen-zell-leinach.de///NONSGML kigkonsult.se iCalcreator 2.10.15//
METHOD:PUBLISH
BEGIN:VEVENT
UID:20260423T104252CEST-12475Oi1k7@https://www.kirchen-zell-leinach.de/
DTSTAMP:20260423T084252Z
DESCRIPTION: https://www.kirchen-zell-leinach.de/aktuelles/event/251-taufso
 nntag
DTSTART;VALUE=DATE:20240407
LOCATION:Pfarrkirche Erlabrunn (Obere Kirchgasse 6\, 97250\, Erlabrunn\, Ba
 yern)
SUMMARY:Taufsonntag
URL:https://www.kirchen-zell-leinach.de/aktuelles/event/251-taufsonntag
END:VEVENT
END:VCALENDAR
