BEGIN:VCALENDAR
VERSION:2.0
PRODID:-//https://www.kirchen-zell-leinach.de///NONSGML kigkonsult.se iCalcreator 2.10.15//
METHOD:PUBLISH
BEGIN:VEVENT
UID:20260423T125749CEST-5562ffmPmb@https://www.kirchen-zell-leinach.de/
DTSTAMP:20260423T105749Z
DESCRIPTION: https://www.kirchen-zell-leinach.de/aktuelles/event/244-taufso
 nntag
DTSTART;VALUE=DATE:20240128
LOCATION:Pfarrkirchen in Leinach ()
SUMMARY:Taufsonntag
URL:https://www.kirchen-zell-leinach.de/aktuelles/event/244-taufsonntag
END:VEVENT
END:VCALENDAR
