BEGIN:VCALENDAR
VERSION:2.0
PRODID:-//https://www.kirchen-zell-leinach.de///NONSGML kigkonsult.se iCalcreator 2.10.15//
METHOD:PUBLISH
BEGIN:VEVENT
UID:20260423T121440CEST-9576SZFpwp@https://www.kirchen-zell-leinach.de/
DTSTAMP:20260423T101440Z
DESCRIPTION: https://www.kirchen-zell-leinach.de/aktuelles/event/243-taufso
 nntag
DTSTART;VALUE=DATE:20231224
LOCATION:Pfarrkirchen in Leinach ()
SUMMARY:Taufsonntag
URL:https://www.kirchen-zell-leinach.de/aktuelles/event/243-taufsonntag
END:VEVENT
END:VCALENDAR
