BEGIN:VCALENDAR
VERSION:2.0
PRODID:-//https://www.kirchen-zell-leinach.de///NONSGML kigkonsult.se iCalcreator 2.10.15//
METHOD:PUBLISH
BEGIN:VEVENT
UID:20260422T143551CEST-1540nR4XJJ@https://www.kirchen-zell-leinach.de/
DTSTAMP:20260422T123551Z
DESCRIPTION: https://www.kirchen-zell-leinach.de/aktuelles/event/234-taufso
 nntag
DTSTART;VALUE=DATE:20240121
LOCATION:Kloster Oberzell ()
SUMMARY:Taufsonntag
URL:https://www.kirchen-zell-leinach.de/aktuelles/event/234-taufsonntag
END:VEVENT
END:VCALENDAR
