BEGIN:VCALENDAR
VERSION:2.0
PRODID:-//https://www.kirchen-zell-leinach.de///NONSGML kigkonsult.se iCalcreator 2.10.15//
METHOD:PUBLISH
BEGIN:VEVENT
UID:20260422T143446CEST-12708xkDNt@https://www.kirchen-zell-leinach.de/
DTSTAMP:20260422T123446Z
DESCRIPTION: https://www.kirchen-zell-leinach.de/aktuelles/event/233-taufso
 nntag
DTSTART;VALUE=DATE:20231217
LOCATION:Kloster Oberzell ()
SUMMARY:Taufsonntag
URL:https://www.kirchen-zell-leinach.de/aktuelles/event/233-taufsonntag
END:VEVENT
END:VCALENDAR
