BEGIN:VCALENDAR
VERSION:2.0
PRODID:-//https://www.kirchen-zell-leinach.de///NONSGML kigkonsult.se iCalcreator 2.10.15//
METHOD:PUBLISH
BEGIN:VEVENT
UID:20260421T103233CEST-4613n920xK@https://www.kirchen-zell-leinach.de/
DTSTAMP:20260421T083233Z
DESCRIPTION: https://www.kirchen-zell-leinach.de/aktuelles/event/208-taufso
 nntag
DTSTART;VALUE=DATE:20230820
LOCATION:Kloster Oberzell ()
SUMMARY:Taufsonntag
URL:https://www.kirchen-zell-leinach.de/aktuelles/event/208-taufsonntag
END:VEVENT
END:VCALENDAR
