BEGIN:VCALENDAR
VERSION:2.0
PRODID:-//https://www.kirchen-zell-leinach.de///NONSGML kigkonsult.se iCalcreator 2.10.15//
METHOD:PUBLISH
BEGIN:VEVENT
UID:20260422T105934CEST-4525EZHP3Z@https://www.kirchen-zell-leinach.de/
DTSTAMP:20260422T085934Z
DESCRIPTION: https://www.kirchen-zell-leinach.de/aktuelles/event/207-taufso
 nntag
DTSTART;VALUE=DATE:20230716
LOCATION:Kloster Oberzell ()
SUMMARY:Taufsonntag
URL:https://www.kirchen-zell-leinach.de/aktuelles/event/207-taufsonntag
END:VEVENT
END:VCALENDAR
