BEGIN:VCALENDAR
VERSION:2.0
PRODID:-//https://www.kirchen-zell-leinach.de///NONSGML kigkonsult.se iCalcreator 2.10.15//
METHOD:PUBLISH
BEGIN:VEVENT
UID:20260423T104251CEST-8730pvCMla@https://www.kirchen-zell-leinach.de/
DTSTAMP:20260423T084251Z
DESCRIPTION: https://www.kirchen-zell-leinach.de/aktuelles/event/204-taufso
 nntag
DTSTART;VALUE=DATE:20230924
LOCATION:Pfarrkirchen in Leinach ()
SUMMARY:Taufsonntag
URL:https://www.kirchen-zell-leinach.de/aktuelles/event/204-taufsonntag
END:VEVENT
END:VCALENDAR
