BEGIN:VCALENDAR
VERSION:2.0
PRODID:-//https://www.kirchen-zell-leinach.de///NONSGML kigkonsult.se iCalcreator 2.10.15//
METHOD:PUBLISH
BEGIN:VEVENT
UID:20260423T121528CEST-44237sr55E@https://www.kirchen-zell-leinach.de/
DTSTAMP:20260423T101528Z
DESCRIPTION: https://www.kirchen-zell-leinach.de/aktuelles/event/195-taufso
 nntag
DTSTART;VALUE=DATE:20231105
LOCATION:Pfarrkirche Erlabrunn (Obere Kirchgasse 6\, 97250\, Erlabrunn\, Ba
 yern)
SUMMARY:Taufsonntag
URL:https://www.kirchen-zell-leinach.de/aktuelles/event/195-taufsonntag
END:VEVENT
END:VCALENDAR
